BEGIN:VCALENDAR
VERSION:2.0
PRODID:-//ChamberMaster//Event Calendar 2.0//EN
METHOD:PUBLISH
X-PUBLISHED-TTL:P3D
REFRESH-INTERVAL:P3D
CALSCALE:GREGORIAN
BEGIN:VEVENT
DTSTART:20181117T140000Z
DTEND:20181117T170000Z
X-MICROSOFT-CDO-ALLDAYEVENT:FALSE
SUMMARY:America Recycles Day
DESCRIPTION:America Recycles Day is a nationwide event held to recognize the importance or recycling. The event will off electronic waste recycling (No TVs or computer monitors) and paper shredding. Also\, at this time we will Not be accepting any tires.
X-ALT-DESC;FMTTYPE=text/html:America Recycles Day is a nationwide event held to recognize the importance or recycling. The event will off electronic waste recycling <strong>(No TVs or computer monitors)</strong> and paper shredding. Also\, at this time we will <strong>Not </strong>be accepting any tires.&nbsp\;
LOCATION:Devault Field Parking Lot 1501 Euclid Ave Bristol\, VA
UID:e.2564.791598
SEQUENCE:3
DTSTAMP:20260425T000130Z
URL:https://business.bristolchamber.com/events/details/america-recycles-day-791598
END:VEVENT

END:VCALENDAR
