BEGIN:VCALENDAR
VERSION:2.0
PRODID:-//ChamberMaster//Event Calendar 2.0//EN
METHOD:PUBLISH
X-PUBLISHED-TTL:P3D
REFRESH-INTERVAL:P3D
CALSCALE:GREGORIAN
BEGIN:VEVENT
DTSTART:20190330T150000Z
DTEND:20190330T210000Z
X-MICROSOFT-CDO-ALLDAYEVENT:FALSE
SUMMARY:Abingdon's First Contemporary Art Bazaar
DESCRIPTION:A first time show for our local artists to offer their fine art for sale at affordable prices. A lively\, fun show that will feature Sandra Parker playing live Celtic music\, lots of door prizes\, jewelry\, pottery\, stained glass\, paintings\, photography\, textiles\, designer clothing line\, wood carvers\, etc. Come out and support your local art community and have a great time! The first 20 shoppers will receive a FREE treat bag! Still have space for more vendors!
X-ALT-DESC;FMTTYPE=text/html:A first time show for our local artists to offer their fine art for sale at affordable prices. A lively\, fun show that will feature Sandra Parker playing live Celtic music\, lots of door prizes\, jewelry\, pottery\, stained glass\, paintings\, photography\, textiles\, designer clothing line\, wood carvers\, etc. Come out and support your local art community and have a great time! The first 20 shoppers will receive a FREE treat bag! Still have space for more vendors!
LOCATION:SW Virginia Higher Ed Center One Partnership Cr. Abingdon\, VA 24210
UID:e.2564.791958
SEQUENCE:3
DTSTAMP:20260421T110504Z
URL:https://business.bristolchamber.com/events/details/abingdon-s-first-contemporary-art-bazaar-791958
END:VEVENT

END:VCALENDAR
