BEGIN:VCALENDAR
VERSION:2.0
PRODID:-//ChamberMaster//Event Calendar 2.0//EN
METHOD:PUBLISH
X-PUBLISHED-TTL:P3D
REFRESH-INTERVAL:P3D
CALSCALE:GREGORIAN
BEGIN:VEVENT
DTSTART:20191003T213000Z
DTEND:20191004T020000Z
X-MICROSOFT-CDO-ALLDAYEVENT:FALSE
SUMMARY:A Night in Italy
DESCRIPTION:Washington County Habitat for Humanity Presents A Night in Italy. The event will include a dinner\, open bar\, silent auction and WyldeHeart will be performing. All proceeds from the event will go toward a new Habitat home in Abingdon VA for a family in need. Habitat for Humanity is a non-profit that builds homes for low income families using volunteers that come from our community. Everyone deserves to live in a warm and safe home. Habitat homeowners achieve the strength\, stability and independence they need to build a better life for their families.
X-ALT-DESC;FMTTYPE=text/html:Washington County Habitat for Humanity Presents A Night in Italy. The event will include a dinner\, open bar\, silent auction and WyldeHeart will be performing. All proceeds from the event will go toward a new Habitat home in Abingdon VA for a family in need. Habitat for Humanity is a non-profit that builds homes for low income families using volunteers that come from our community. Everyone deserves to live in a warm and safe home. Habitat homeowners achieve the strength\, stability and independence they need to build a better life for their families.
LOCATION:The Barns at Chip Ridge in Abingdon VA
UID:e.2564.792091
SEQUENCE:3
DTSTAMP:20260421T221222Z
URL:https://business.bristolchamber.com/events/details/a-night-in-italy-792091
END:VEVENT

END:VCALENDAR
