BEGIN:VCALENDAR
VERSION:2.0
PRODID:-//ChamberMaster//Event Calendar 2.0//EN
METHOD:PUBLISH
X-PUBLISHED-TTL:P3D
REFRESH-INTERVAL:P3D
CALSCALE:GREGORIAN
BEGIN:VEVENT
DTSTART:20220404T230000Z
DTEND:20220405T010000Z
X-MICROSOFT-CDO-ALLDAYEVENT:FALSE
SUMMARY:50 Years in the Making: Celebrating Old Time\, Blues and Bluegrass Music
DESCRIPTION:A live concert celebrating old time\, blues and bluegrass music with 100% of all proceeds benefit Appalachian Sustainable Development. Abingdon Virginia resident\, Jack Hinshelwood is the event host. Artists include Phil Wiggins\, Rob Ickes\, Trey Hensley\, Butch Robins\, Ivy Phillips\, Scott Freeman\, Jacob Eller\, Debbie Yates\, Sandy Shortridge\, and Jack Hinshelwood as host. A special feature of the concert will include two European artists\, uilleann piper Ronan Browne from Ireland and euphonium maestro Steven Mead from England\, performing via YouTube.
X-ALT-DESC;FMTTYPE=text/html:A live concert celebrating old time\, blues and bluegrass music with 100% of all proceeds benefit Appalachian Sustainable Development. Abingdon Virginia resident\, Jack Hinshelwood is the event host. Artists include Phil Wiggins\, Rob Ickes\, Trey Hensley\, Butch Robins\, Ivy Phillips\, Scott Freeman\, Jacob Eller\, Debbie Yates\, Sandy Shortridge\, and Jack Hinshelwood as host. A special feature of the concert will include two European artists\, uilleann piper Ronan Browne from Ireland and euphonium maestro Steven Mead from England\, performing via YouTube.
LOCATION:Emory & Henry College\, The Woodrow W. McGlothlin Center for the Arts
UID:e.2564.795124
SEQUENCE:3
DTSTAMP:20260422T121045Z
URL:https://business.bristolchamber.com/events/details/50-years-in-the-making-celebrating-old-time-blues-and-bluegrass-music-795124
END:VEVENT

END:VCALENDAR
