BEGIN:VCALENDAR
VERSION:2.0
PRODID:-//ChamberMaster//Event Calendar 2.0//EN
METHOD:PUBLISH
X-PUBLISHED-TTL:P3D
REFRESH-INTERVAL:P3D
CALSCALE:GREGORIAN
BEGIN:VEVENT
DTSTART:20210501T140000Z
DTEND:20210501T180000Z
X-MICROSOFT-CDO-ALLDAYEVENT:FALSE
SUMMARY:3D Printing Open House at the Bristol Public Library
DESCRIPTION:On Saturday\, May 1 between 10:00 AM and 2:00 PM\, the Bristol Public Library will be showcasing its 3-D printers with an Open House.  Drop in to see 3D printing in action and learn how you can get started using BPL's 3D printing services. \n\n \n\n3D printing uses plastic filament to create solid objects\, from the practical to the whimsical and everything in between. Everyone who attends will get coupon for $3 off their next 3D print using BPL's 3D printing services.  \n\n \n\nEach month the Jones Creativity Center offers a free 3D print of the month\, and 'Flowers' is the theme for May. Pick from our curated collection including a realistic looking rose\, a smiling daisy or a flower fidget spinner or one of several other examples to keep for yourself or give as a gift.
X-ALT-DESC;FMTTYPE=text/html:<span style="font-family:arial\,sans-serif">On Saturday\, May 1 between 10:00 AM and 2:00 PM\, the Bristol Public Library will be showcasing its 3-D printers with an Open House. &nbsp\;<span style="color:black">Drop in to see&nbsp\;3D printing in action and learn how you can&nbsp\;get started using BPL&#39\;s 3D printing services. </span></span><br />\n&nbsp\;<br />\n<span style="color:black"><span style="font-family:arial\,sans-serif">3D printing uses plastic filament to create solid objects\, from the&nbsp\;practical to the whimsical and everything in between. Everyone who&nbsp\;attends&nbsp\;will get coupon for $3 off their next 3D print using BPL&#39\;s 3D printing services.&nbsp\;&nbsp\;</span></span><br />\n&nbsp\;<br />\n<span style="color:black"><span style="font-family:arial\,sans-serif">Each month the Jones Creativity Center offers a free 3D print of the month\, and &#39\;Flowers&#39\; is the theme for May. Pick from our curated collection including&nbsp\;a realistic looking rose\, a smiling daisy or a flower fidget spinner&nbsp\;or one of several other examples to keep for yourself or give as a gift.&nbsp\;&nbsp\; </span></span>
LOCATION:Bristol Public Library Main Branch - Jones Creativity Center
UID:e.2564.794665
SEQUENCE:3
DTSTAMP:20260423T045528Z
URL:https://business.bristolchamber.com/events/details/3d-printing-open-house-at-the-bristol-public-library-794665
END:VEVENT

END:VCALENDAR
