BEGIN:VCALENDAR
VERSION:2.0
PRODID:-//ChamberMaster//Event Calendar 2.0//EN
METHOD:PUBLISH
X-PUBLISHED-TTL:P3D
REFRESH-INTERVAL:P3D
CALSCALE:GREGORIAN
BEGIN:VEVENT
DTSTART:20191129T140000Z
DTEND:20191130T230000Z
X-MICROSOFT-CDO-ALLDAYEVENT:FALSE
SUMMARY:37th Annual Country Christmas Craft Show
DESCRIPTION:A Bristol tradition will continue Thanksgiving weekend as the 37th annual Country Christmas Craft Show gets underway at Viking Hall with more than 100 booths brimming with handmade holiday decorations and items perfect for gift giving.\n\nVendors will arrive from as far away as Minnesota\, bringing with them a wide array of quilts\, Christmas ornaments\, stained glass decorations\, crocheted items\, herbal extracts\, and more\, said Show Director Daisy Carroll. Bow tree toppers that sold out last year will be back\, she said\, as will the rustic wooden reindeer that have been popular for many years.  \n\n"And if you need a new wreath for your door\, we've got that\, too\," Carroll said. "Of course\, we always have a children's craft table where the kids can make an ornament for free. That's a really popular item and something everyone looks forward to."\n\nThe event is sponsored by the City of Bristol\, Tennessee's Department of Parks and Recreation and will be held Friday and Saturday\, Nov. 29-30\, 9 a.m. to 6 p.m.\, and Sunday\, Dec. 1\, noon to 5 p.m. Admission is $5\, but children 12 and under are admitted free. Those attending are invited to bring non-perishable food items for donation to Second Harvest Food Bank. \n\nFor more information\, contact Angie Rutherford at 423-764-3463
X-ALT-DESC;FMTTYPE=text/html:<span style="font-family:times new roman\,serif\;"><span style="font-size:12.0pt\;">A Bristol tradition will continue Thanksgiving weekend as the 37<sup>th</sup> annual Country Christmas Craft Show gets underway at Viking Hall with more than 100 booths brimming with handmade holiday decorations and items perfect for gift giving.</span></span><br />\n<span style="font-family:times new roman\,serif\;"><span style="font-size:12.0pt\;">Vendors will arrive from as far away as Minnesota\, bringing with them a wide array of quilts\, Christmas ornaments\, stained glass decorations\, crocheted items\, herbal extracts\, and more\, said Show Director Daisy Carroll. Bow tree toppers that sold out last year will be back\, she said\, as will the rustic wooden reindeer that have been popular for many years.&shy\;&shy\;</span></span><br />\n<span style="font-family:times new roman\,serif\;"><span style="font-size:12.0pt\;">&ldquo\;And if you need a new wreath for your door\, we&rsquo\;ve got that\, too\,&rdquo\; Carroll said. &ldquo\;Of course\, we always have a children&rsquo\;s craft table where the kids can make an ornament for free. That&rsquo\;s a really popular item and something everyone looks forward to.&rdquo\;</span></span><br />\n<span style="font-family:times new roman\,serif\;"><span style="font-size:12.0pt\;">The event is sponsored by the City of Bristol\, Tennessee&rsquo\;s Department of Parks and Recreation and will be held Friday and Saturday\, Nov. 29-30\, 9 a.m. to 6 p.m.\, and Sunday\, Dec. 1\, noon to 5 p.m. Admission is $5\, but children 12 and under are admitted free. Those attending are invited to bring non-perishable food items for donation to Second Harvest Food Bank. </span></span><br />\n<span style="font-family:times new roman\,serif\;"><span style="font-size:12.0pt\;">For more information\, contact Angie Rutherford at 423-764-3463&nbsp\;</span></span>
LOCATION:Viking Hall
UID:e.2564.794196
SEQUENCE:3
DTSTAMP:20260424T055922Z
URL:https://business.bristolchamber.com/events/details/37th-annual-country-christmas-craft-show-794196
END:VEVENT

END:VCALENDAR
