BEGIN:VCALENDAR
VERSION:2.0
PRODID:-//ChamberMaster//Event Calendar 2.0//EN
METHOD:PUBLISH
X-PUBLISHED-TTL:P3D
REFRESH-INTERVAL:P3D
CALSCALE:GREGORIAN
BEGIN:VEVENT
DTSTART;VALUE=DATE:20230605
DTEND;VALUE=DATE:20230606
TRANSP:TRANSPARENT
X-MICROSOFT-CDO-ALLDAYEVENT:TRUE
SUMMARY:30th Annual Second Harvest Food Bank of Northeast Tennessee Golf Classic
DESCRIPTION:All players receive: Green fees\, cart fees\, lunch\, beverages\, snacks\, and a chance to win a $25\,000 Hole-in-one prize\, prizes on all par 3's\, Longest Drive and Closest to the Pin prizes.
X-ALT-DESC;FMTTYPE=text/html:All players receive: Green fees\, cart fees\, lunch\, beverages\, snacks\, and a chance to win a $25\,000 Hole-in-one prize\, prizes on all par 3&rsquo\;s\, Longest Drive and Closest to the Pin prizes.
LOCATION:Blackthorn Club at the Ridges
UID:e.2564.795691
SEQUENCE:3
DTSTAMP:20260419T195730Z
URL:https://business.bristolchamber.com/events/details/30th-annual-second-harvest-food-bank-of-northeast-tennessee-golf-classic-795691
END:VEVENT

END:VCALENDAR
