BEGIN:VCALENDAR
VERSION:2.0
PRODID:-//ChamberMaster//Event Calendar 2.0//EN
METHOD:PUBLISH
X-PUBLISHED-TTL:P3D
REFRESH-INTERVAL:P3D
CALSCALE:GREGORIAN
BEGIN:VEVENT
DTSTART:20220813T190000Z
DTEND:20220814T023000Z
X-MICROSOFT-CDO-ALLDAYEVENT:FALSE
SUMMARY:2nd Annual euNoia "A Well Mind" Concert featuring American Idol's Phillip Phillips
DESCRIPTION:FREE children's event welcomes the Scars Foundation with an interactive concert presented by the Grace Notes Project! They use music to help children and families connect and express emotions through music. The children's event is free to all children and their families. It will take place before the euNoia Benefit concert. This annual fundraising event focuses on bringing incredible music and great food\, and fun for everyone to the outdoor Cumberland Square Park in Historic Downtown Bristol\, VA on Saturday\, August 13th\, 2022.
X-ALT-DESC;FMTTYPE=text/html:FREE children&#39\;s event welcomes the Scars Foundation with an interactive concert presented by the Grace Notes Project! They use music to help children and families connect and express emotions through music. The children&#39\;s event is free to all children and their families. It will take place before the euNoia Benefit concert. This annual fundraising event focuses on bringing incredible music and great food\, and fun for everyone to the outdoor Cumberland Square Park in Historic Downtown Bristol\, VA on Saturday\, August 13th\, 2022.
LOCATION:Cumberland Square Park Downtown Bristol
UID:e.2564.795260
SEQUENCE:3
DTSTAMP:20260420T101742Z
URL:https://business.bristolchamber.com/events/details/2nd-annual-eunoia-a-well-mind-concert-featuring-american-idol-s-phillip-phillips-795260
END:VEVENT

END:VCALENDAR
