BEGIN:VCALENDAR
VERSION:2.0
PRODID:-//ChamberMaster//Event Calendar 2.0//EN
METHOD:PUBLISH
X-PUBLISHED-TTL:P3D
REFRESH-INTERVAL:P3D
CALSCALE:GREGORIAN
BEGIN:VEVENT
DTSTART:20210607T150000Z
DTEND:20210607T210000Z
X-MICROSOFT-CDO-ALLDAYEVENT:FALSE
SUMMARY:28th Annual Second Harvest Food Bank of Northeast Tennessee Golf Classic
DESCRIPTION:June 7\, 2021 at The Blackthorn Club Check-in and lunch: 11:00 a.m. to 12:30 p.m. Shotgun start: 1:00 p.m. Each player's package includes the following: Green fees\, cart fees\, lunch\, beverages\, snacks\, door prizes\, and a chance to win a Hole-in-one prize\, prizes on all par 3's\, the Longest Drive\, Closest to the Pin and Closest to the Line.
X-ALT-DESC;FMTTYPE=text/html:June 7\, 2021 at The Blackthorn Club Check-in and lunch: 11:00 a.m. to 12:30 p.m. Shotgun start: 1:00 p.m. Each player&rsquo\;s package includes the following: Green fees\, cart fees\, lunch\, beverages\, snacks\, door prizes\, and a chance to win a Hole-in-one prize\, prizes on all par 3&rsquo\;s\, the Longest Drive\, Closest to the Pin and Closest to the Line.
LOCATION:1501 Ridges Club Drive\, Jonesborough\, TN 37659
UID:e.2564.794654
SEQUENCE:3
DTSTAMP:20260423T032037Z
URL:https://business.bristolchamber.com/events/details/28th-annual-second-harvest-food-bank-of-northeast-tennessee-golf-classic-794654
END:VEVENT

END:VCALENDAR
