BEGIN:VCALENDAR
VERSION:2.0
PRODID:-//ChamberMaster//Event Calendar 2.0//EN
METHOD:PUBLISH
X-PUBLISHED-TTL:P3D
REFRESH-INTERVAL:P3D
CALSCALE:GREGORIAN
BEGIN:VEVENT
DTSTART:20201019T150000Z
DTEND:20201019T220000Z
X-MICROSOFT-CDO-ALLDAYEVENT:FALSE
SUMMARY:27th Annual Second Harvest Food Bank of Northeast Tennessee Golf Classic
DESCRIPTION:Help feed the hungry by participating in the Second Harvest Food Bank of Northeast Tennessee Golf Tournament Tournament Details: o Check-in and lunch will take place from 11:00 a.m. to 12:30 p.m. Shotgun start is at 1:00 p.m.   The tournament will be Captain's Choice with teams of four players.   Lunch is included. Beverages and snacks will be served throughout the tournament.   There will be specialty prizes on all par 3 holes\, as well as a $25\,000 hole-in-one grand prize.. For more information\, contact Kelsi Faulk at (423)279-0430 ext. 235 or specialevents@netfoodbank.org.
X-ALT-DESC;FMTTYPE=text/html:Help feed the hungry by participating in the Second Harvest Food Bank of Northeast Tennessee Golf Tournament Tournament Details: o Check-in and lunch will take place from 11:00 a.m. to 12:30 p.m. Shotgun start is at 1:00 p.m. &bull\; The tournament will be Captain&rsquo\;s Choice with teams of four players. &bull\; Lunch is included. Beverages and snacks will be served throughout the tournament. &bull\; There will be specialty prizes on all par 3 holes\, as well as a $25\,000 hole-in-one grand prize.. For more information\, contact Kelsi Faulk at (423)279-0430 ext. 235 or specialevents@netfoodbank.org.
LOCATION:Blackthorn Country Club
UID:e.2564.794468
SEQUENCE:3
DTSTAMP:20260423T144910Z
URL:https://business.bristolchamber.com/events/details/27th-annual-second-harvest-food-bank-of-northeast-tennessee-golf-classic-794468
END:VEVENT

END:VCALENDAR
