BEGIN:VCALENDAR
VERSION:2.0
PRODID:-//ChamberMaster//Event Calendar 2.0//EN
METHOD:PUBLISH
X-PUBLISHED-TTL:P3D
REFRESH-INTERVAL:P3D
CALSCALE:GREGORIAN
BEGIN:VEVENT
DTSTART:20230427T120000Z
DTEND:20230427T203000Z
X-MICROSOFT-CDO-ALLDAYEVENT:FALSE
SUMMARY:25th Annual Urgent Legal Issues for the Modern Business
DESCRIPTION:Hot Topics for Businesses in 2023\n\nWe are excited to expand our programming for the 25th edition of our annual seminar\, so please join us to learn about hot topics in employment law and beyond.  The agenda will offer two tracks to address issues that are keeping HR professionals\, business executives and owners\, and in-house counsel up at night.  One track will review employment and HR-related content\, and the other will examine other crucial business areas.  Come help us celebrate this seminar's silver jubilee!
X-ALT-DESC;FMTTYPE=text/html:Hot Topics for Businesses in 2023<br />\nWe are excited to expand our programming for the 25th edition of our annual seminar\, so please join us to learn about hot topics in employment law and beyond.&nbsp\; The agenda will offer two tracks to address issues that are keeping HR professionals\, business executives and owners\, and in-house counsel up at night.&nbsp\; One track will review employment and HR-related content\, and the other will examine other crucial business areas.&nbsp\; Come help us celebrate this seminar&#39\;s silver jubilee!
LOCATION:MeadowView Marriott Executive Conference Center 1901 Meadowview Parkway Kingsport\, Tennessee
UID:e.2564.795699
SEQUENCE:3
DTSTAMP:20260419T223708Z
URL:https://business.bristolchamber.com/events/details/25th-annual-urgent-legal-issues-for-the-modern-business-795699
END:VEVENT

END:VCALENDAR
