BEGIN:VCALENDAR
VERSION:2.0
PRODID:-//ChamberMaster//Event Calendar 2.0//EN
METHOD:PUBLISH
X-PUBLISHED-TTL:P3D
REFRESH-INTERVAL:P3D
CALSCALE:GREGORIAN
BEGIN:VEVENT
DTSTART:20230523T140000Z
DTEND:20230523T183000Z
X-MICROSOFT-CDO-ALLDAYEVENT:FALSE
SUMMARY:2023 Bristol VA Historic Preservation Awards
DESCRIPTION:CITYWIDE (Property is located outside of a historic district within the Bristol\, VA city limits.)\n\n10:00 A.M. \n\nNew Peoples Bank\n\n901 West State Street\n\nBristol\, VA\n\n\n\nEUCLID AVENUE HISTORIC DISTRICT\n\n11:00 A.M. \n\nLeonard home\n\n441 Euclid Avenue\n\nBristol\, VA\n\n\n\nSOLAR HILL HISTORIC DISTRICT\n\n1:00 P.M. \n\nCampbell home\n\n238 Oak Street\n\nBristol\, VA\n\n\n\nBRISTOL DOWNTOWN COMMERCIAL HISTORIC DISTRICT\n\n2:00 P.M.\n\nSouthern Churn\n\n627 State Street\n\nBristol\, VA
X-ALT-DESC;FMTTYPE=text/html:<strong>CITYWIDE </strong><span style="font-size:10px\;">(Property is located outside of a historic district within the Bristol\, VA city limits.)</span><br />\n<strong>10:00 A.M. </strong><br />\nNew Peoples Bank<br />\n901 West State Street<br />\nBristol\, VA<br />\n<br />\n<strong>EUCLID AVENUE HISTORIC DISTRICT<br />\n11:00 A.M. </strong><br />\nLeonard home<br />\n441 Euclid Avenue<br />\nBristol\, VA<br />\n<br />\n<strong>SOLAR HILL HISTORIC DISTRICT<br />\n1:00 P.M. </strong><br />\nCampbell home<br />\n238 Oak Street<br />\nBristol\, VA<br />\n<br />\n<strong>BRISTOL DOWNTOWN COMMERCIAL HISTORIC DISTRICT<br />\n2:00 P.M.</strong><br />\nSouthern Churn<br />\n627 State Street<br />\nBristol\, VA
LOCATION:
UID:e.2564.795913
SEQUENCE:3
DTSTAMP:20260419T211621Z
URL:https://business.bristolchamber.com/events/details/2023-bristol-va-historic-preservation-awards-795913
END:VEVENT

END:VCALENDAR
