BEGIN:VCALENDAR
VERSION:2.0
PRODID:-//ChamberMaster//Event Calendar 2.0//EN
METHOD:PUBLISH
X-PUBLISHED-TTL:P3D
REFRESH-INTERVAL:P3D
CALSCALE:GREGORIAN
BEGIN:VEVENT
DTSTART:20190928T130000Z
DTEND:20190928T170000Z
X-MICROSOFT-CDO-ALLDAYEVENT:FALSE
SUMMARY:2019 Fall Vendor Expo
DESCRIPTION:Come out and support local artists and vendors from around the Tri-cities area at the Holiday Inn Bristol conference center were there is sure to be a taste of everything for everyone. All proceeds benefit the Haven of Rest Rescue Mission. Further event information and vendor registration can be found on our website at: www.havenofrestbristol.org
X-ALT-DESC;FMTTYPE=text/html:Come out and support local artists and vendors from around the Tri-cities area at the Holiday Inn Bristol conference center were there is sure to be a taste of everything for everyone. All proceeds benefit the Haven of Rest Rescue Mission. Further event information and vendor registration can be found on our website at: www.havenofrestbristol.org
LOCATION:Holiday Inn Bristol Conference Center 3005 Linden Drive Bristol\, VA 24202
UID:e.2564.792053
SEQUENCE:3
DTSTAMP:20260420T004844Z
URL:https://business.bristolchamber.com/events/details/2019-fall-vendor-expo-792053
END:VEVENT

END:VCALENDAR
