BEGIN:VCALENDAR
VERSION:2.0
PRODID:-//ChamberMaster//Event Calendar 2.0//EN
METHOD:PUBLISH
X-PUBLISHED-TTL:P3D
REFRESH-INTERVAL:P3D
CALSCALE:GREGORIAN
BEGIN:VEVENT
DTSTART;VALUE=DATE:20191230
DTEND;VALUE=DATE:20200101
TRANSP:TRANSPARENT
X-MICROSOFT-CDO-ALLDAYEVENT:TRUE
SUMMARY:2019 Arby's Classic Tournament
DESCRIPTION:The 2019 Arby's Classic Basketball Tournament will be held December 26   31\, 2019\, with no play on Sunday\, December 29. The 37th Arby's Classic brings a talented field to Bristol\, showcasing many local units as well as teams from across the country.
X-ALT-DESC;FMTTYPE=text/html:<span style="color: rgb(136\, 136\, 136)\; font-family: &quot\;Droid Sans&quot\;\, sans-serif\; font-size: 14px\;">The 2019 Arby&#39\;s Classic Basketball Tournament will be held December 26 &ndash\; 31\, 2019\, with no play on Sunday\, December 29.&nbsp\;</span><span style="color: rgb(136\, 136\, 136)\; font-family: &quot\;Droid Sans&quot\;\, sans-serif\; font-size: 14px\;">The 37</span><span style="color: rgb(136\, 136\, 136)\; font-family: &quot\;Droid Sans&quot\;\, sans-serif\; font-size: 14px\;">th&nbsp\;</span><span style="color: rgb(136\, 136\, 136)\; font-family: &quot\;Droid Sans&quot\;\, sans-serif\; font-size: 14px\;">Arby&rsquo\;s Classic brings a talented field to Bristol\, showcasing many local units as well as teams from across the country.</span>
LOCATION:Viking Hall
UID:e.2564.794201
SEQUENCE:3
DTSTAMP:20260420T195412Z
URL:https://business.bristolchamber.com/events/details/2019-arby-s-classic-tournament-794201
END:VEVENT

END:VCALENDAR
