BEGIN:VCALENDAR
VERSION:2.0
PRODID:-//ChamberMaster//Event Calendar 2.0//EN
METHOD:PUBLISH
X-PUBLISHED-TTL:P3D
REFRESH-INTERVAL:P3D
CALSCALE:GREGORIAN
BEGIN:VEVENT
DTSTART:20200418T110000Z
DTEND:20200418T143000Z
X-MICROSOFT-CDO-ALLDAYEVENT:FALSE
SUMMARY:15th Annual Tri-Cities Race for the Cure
DESCRIPTION:Help us celebrate 15 Year of Running for the Cure in the Tri-Cities with Komen East TN Join us on Saturday\, April 18 for our Tri-Cities Race for the Cure. 7 am - Expo opens and entertainment starts 7 am - 7:45 - Late registration and packet pick up 8 am - 5K Run/Walk 8:30 am - 1 Mile Family Fun Run/Walk Expo closes at 10:30 am
X-ALT-DESC;FMTTYPE=text/html:Help us celebrate 15 Year of Running for the Cure in the Tri-Cities with Komen East TN Join us on Saturday\, April 18 for our Tri-Cities Race for the Cure. 7 am - Expo opens and entertainment starts 7 am - 7:45 - Late registration and packet pick up 8 am - 5K Run/Walk 8:30 am - 1 Mile Family Fun Run/Walk Expo closes at 10:30 am
LOCATION:Kingsport Center for Higher Education 300 W Market Street Kingsport
UID:e.2564.794356
SEQUENCE:3
DTSTAMP:20260424T001623Z
URL:https://business.bristolchamber.com/events/details/15th-annual-tri-cities-race-for-the-cure-794356
END:VEVENT

END:VCALENDAR
