BEGIN:VCALENDAR
VERSION:2.0
PRODID:-//ChamberMaster//Event Calendar 2.0//EN
METHOD:PUBLISH
X-PUBLISHED-TTL:P3D
REFRESH-INTERVAL:P3D
CALSCALE:GREGORIAN
BEGIN:VEVENT
DTSTART:20190805T120000Z
DTEND:20190805T180000Z
X-MICROSOFT-CDO-ALLDAYEVENT:FALSE
SUMMARY:10th Annual Haven of Rest Golf Classic
DESCRIPTION:Select Shot - Captain's Choice ? CLOSEST to the pin on #5 Pines and #5 Lakes - No Mulligans LONGEST Drive Competition on #2 Pines - No Mulligans HOLE-IN-ONE on #8 Pines - No Mulligans\, Cash Prize! $25\,000 sponsored by Shoun Trucking Company\, Inc. Mulligans: Maximum of 1 per person - $10 each Registration Before July 1\, 2019: $100 per person or $400 per team After July 1\,2019: $125 per person or $500 per team *Each golfer receives an event shirt* Corporate Hole Sponsorship $125 per sign or two for $200 Overall Tournament Sponsor: $1500 * If you wish to sponsor a hole\, please send your company logo to cshankle@horbtn.org *
X-ALT-DESC;FMTTYPE=text/html:Select Shot - Captain&#39\;s Choice ? CLOSEST to the pin on #5 Pines and #5 Lakes - No Mulligans LONGEST Drive Competition on #2 Pines - No Mulligans HOLE-IN-ONE on #8 Pines - No Mulligans\, Cash Prize! $25\,000 sponsored by Shoun Trucking Company\, Inc. Mulligans: Maximum of 1 per person - $10 each Registration Before July 1\, 2019: $100 per person or $400 per team After July 1\,2019: $125 per person or $500 per team *Each golfer receives an event shirt* Corporate Hole Sponsorship $125 per sign or two for $200 Overall Tournament Sponsor: $1500 * If you wish to sponsor a hole\, please send your company logo to cshankle@horbtn.org *
LOCATION:Tri-Cities Golf Club 2354 Feathers Chapel Road\, Blountville\, TN 37617
UID:e.2564.792022
SEQUENCE:3
DTSTAMP:20260424T113729Z
URL:https://business.bristolchamber.com/events/details/10th-annual-haven-of-rest-golf-classic-792022
END:VEVENT

END:VCALENDAR
